BEGIN:VCALENDAR
VERSION:2.0
PRODID:-//ChamberMaster//Event Calendar 2.0//EN
METHOD:PUBLISH
X-PUBLISHED-TTL:P3D
REFRESH-INTERVAL:P3D
CALSCALE:GREGORIAN
BEGIN:VEVENT
DTSTART:20240214T230000Z
DTEND:20240215T010000Z
X-MICROSOFT-CDO-ALLDAYEVENT:FALSE
SUMMARY:Beer VS Wine Pairing
DESCRIPTION:Join us for a 4-course meal\, with each course being paired with one 3oz wine and one 3oz beer. Our chef is creating a menu that will be expertly paired by our wine sommelier Michael and then also paired expertly with craft beer by our staff!\n\nWhich one will win your heart in each course?\n\nNo dietary substitutions\n\nNo refunds 48 hours before the event
X-ALT-DESC;FMTTYPE=text/html:<div>Join us for a 4-course meal\, with each course being paired with one 3oz wine and one 3oz beer. Our chef is creating a menu that will be expertly paired by our wine sommelier Michael and then also paired expertly with craft beer by our staff!</div>\n\n<div>Which one will win your heart in each course?</div>\n\n<div>No dietary substitutions</div>\n\n<div>No refunds 48 hours before the event</div>\n
LOCATION:Brown Iron Brewhouse Royal Oak
UID:e.2933.4249
SEQUENCE:3
DTSTAMP:20260422T174829Z
URL:http://royaloakchamber.smartcms.site/events/details/beer-vs-wine-pairing-4249
END:VEVENT

END:VCALENDAR
