BEGIN:VCALENDAR
VERSION:2.0
PRODID:-//ChamberMaster//Event Calendar 2.0//EN
METHOD:PUBLISH
X-PUBLISHED-TTL:P3D
REFRESH-INTERVAL:P3D
CALSCALE:GREGORIAN
BEGIN:VEVENT
DTSTART:20240124T163000Z
DTEND:20240124T180000Z
X-MICROSOFT-CDO-ALLDAYEVENT:FALSE
SUMMARY:Become Unstuckable in 2024!
DESCRIPTION:Join us for lunch at the chamber with life and mental fitness coach\, Laura Rizzo. Let's launch 2024 inspired and with good eats from Kal's Lunch Bowl! \n\n\n\nLaura with LuvAll Coaching will guide you through a review and celebration of 2023 and then dive into aspiration and actions for 2024. \n\n\n\nYou'll engage in exercises and group discussions to gain insight and clarity on what you want and how to achieve it. \n\n\n\nThe best part? You'll leave with strategies and tools to support yourself in being UNSTOPPABLE in 2024. \n\n\n\nTickets are $34 (Lunch included). Seats are limited. \n\n\n\nRegister: HERE!
X-ALT-DESC;FMTTYPE=text/html:<br />\n<span style="font-size:16px\;">Join us for lunch at the chamber with life and mental fitness coach\, Laura Rizzo. Let&#39\;s launch 2024 inspired and with good eats from Kal&#39\;s Lunch Bowl!&nbsp\;<br />\n<br />\nLaura with LuvAll Coaching will guide you through a review and celebration of 2023 and then dive into aspiration and actions for 2024.&nbsp\;<br />\n<br />\nYou&#39\;ll engage in exercises and group discussions to gain insight and clarity on what you want and how to achieve it.&nbsp\;<br />\n<br />\nThe best part? You&#39\;ll leave with strategies and tools to support yourself in being UNSTOPPABLE in 2024.&nbsp\;<br />\n<br />\nTickets are $34 (Lunch included). Seats are limited.&nbsp\;<br />\n<br />\n<strong><span style="font-size:20px\;">Register: <a href="https://www.eventbrite.com/e/become-unstuckable-in-2024-tickets-793343330257?aff=oddtdtcreator">HERE!&nbsp\;</a></span></strong></span>
LOCATION:Royal Oak Chamber of Commerce 200 S. Washington Ave. Royal Oak\, MI 48067 Parking available at the structure directly across the street. First two hours are free! Please do not park in the small chamber staff lot.
UID:e.2933.4239
SEQUENCE:3
DTSTAMP:20260422T123855Z
URL:http://royaloakchamber.smartcms.site/events/details/become-unstuckable-in-2024-4239
END:VEVENT

END:VCALENDAR
