BEGIN:VCALENDAR
VERSION:2.0
PRODID:-//ChamberMaster//Event Calendar 2.0//EN
METHOD:PUBLISH
X-PUBLISHED-TTL:P3D
REFRESH-INTERVAL:P3D
CALSCALE:GREGORIAN
BEGIN:VEVENT
DTSTART:20210318T130000Z
DTEND:20210318T140000Z
X-MICROSOFT-CDO-ALLDAYEVENT:FALSE
SUMMARY:Become a Chamber Web Master: 101 Guiding you through our website.
DESCRIPTION:Please join us for Chamber Web Master 101! We'll explain the intricacies of our website in this short but informative webinar\, led by our Director of Membership\, Christine Perez Thompson.
X-ALT-DESC;FMTTYPE=text/html:<br />\n<span -webkit-text-stroke-width:="" font-size:="" font-style:="" font-variant:="" font-weight:="" letter-spacing:="" line-height:="" orphans:="" style="display: inline !important\; float: none\; background-color: rgb(255\, 255\, 255)\; color: rgb(51\, 51\, 51)\; cursor: text\; font-family: sans-serif\,Arial\,Verdana\," text-align:="" text-decoration:="" text-indent:="" text-transform:="" trebuchet="" white-space:="" word-spacing:="">Please join us for Chamber Web Master 101! We&#39\;ll explain the intricacies of our website in this short but informative webinar\, led by our Director of Membership\, Christine Perez Thompson.&nbsp\;</span>
LOCATION:Virtual Zoom link will be emailed on Wednesday\, March 17.
UID:e.2933.3512
SEQUENCE:3
DTSTAMP:20260425T110714Z
URL:http://royaloakchamber.smartcms.site/events/details/become-a-chamber-web-master-101-guiding-you-through-our-website-3512
END:VEVENT

END:VCALENDAR
