BEGIN:VCALENDAR
VERSION:2.0
PRODID:-//ChamberMaster//Event Calendar 2.0//EN
METHOD:PUBLISH
X-PUBLISHED-TTL:P3D
REFRESH-INTERVAL:P3D
CALSCALE:GREGORIAN
BEGIN:VEVENT
DTSTART:20241231T220000Z
DTEND:20250101T000000Z
X-MICROSOFT-CDO-ALLDAYEVENT:FALSE
SUMMARY:BBQ and Bubbly Pairing
DESCRIPTION:Join us for an enjoyable evening of BBQ and bubbly champagne tasting!\n\nWe have collaborated with our wine representative\, Michael\, to showcase how our smoked meats pair up differently with sparkling wines!\n\nThis event is designed to be more of a sampling and educational experience rather than our usual pairings. Each course will feature a sample of meat along with a sample of champagne!\n\nEvery course is thoughtfully crafted to complement each other beautifully\, and we will provide insights into our pairing choices!
X-ALT-DESC;FMTTYPE=text/html:<p>Join us for an enjoyable evening of BBQ and bubbly champagne tasting!</p>\n\n<p>We have collaborated with our wine representative\, Michael\, to showcase how our smoked meats pair up differently with sparkling wines!</p>\n\n<p>This event is designed to be more of a sampling and educational experience rather than our usual pairings. Each course will feature a sample of meat along with a sample of champagne!</p>\n\n<p>Every course is thoughtfully crafted to complement each other beautifully\, and we will provide insights into our pairing choices!</p>\n
LOCATION:30955 Woodward Ave.\, Royal Oak\, MI\, United States\, Michigan 48073
UID:e.2933.4640
SEQUENCE:3
DTSTAMP:20260423T181739Z
URL:http://royaloakchamber.smartcms.site/events/details/bbq-and-bubbly-pairing-4640
END:VEVENT

END:VCALENDAR
