BEGIN:VCALENDAR
VERSION:2.0
PRODID:-//ChamberMaster//Event Calendar 2.0//EN
METHOD:PUBLISH
X-PUBLISHED-TTL:P3D
REFRESH-INTERVAL:P3D
CALSCALE:GREGORIAN
BEGIN:VEVENT
DTSTART:20210911T150000Z
DTEND:20210911T220000Z
X-MICROSOFT-CDO-ALLDAYEVENT:FALSE
SUMMARY:Barktoberfest
DESCRIPTION:The Royal Oak Chamber of Commerce invites you to discover Barktoberfest\, a fall festival for dogs and their people. Centered around locally-brewed craft beer and music\, this is the most dog-friendly event in town! \n\n\n\nBarktoberfest encourages you to leash up your pooch pal and come out to enjoy a locally brewed beer\, food and live music while you browse vendor booths with everything from pet-related products to locally made crafts to bottlecap creations and cool wearables for craft beer collectors. Dogs can compete in the Howl-a-ween Costume Contest\, Weiner Dog Race\, and More. \n\n\n\nSo bring your BFF -- human or canine -- for an afternoon of food\, shopping\, fun\, music\, and locally brewed beer. $5 entry fee (10 and under free) and IDs are required. Live entertainment\, food\, dog contests and shopping -- centered around locally-brewed craft beer -- make this a fun event for all ages!\n\n\n\nIf you are interested in Exhibitor or Sponsorship opportunities\, call Heather at 248.547.4000 or heatherz@royaloakchamber.com \n\n\n\nThank you Vibe Credit Union for being our Best In Show\, Presenting Sponsor!
X-ALT-DESC;FMTTYPE=text/html:The Royal Oak Chamber of Commerce invites you to discover Barktoberfest\, a fall festival for dogs and their people. Centered around locally-brewed craft beer and music\, this is the most dog-friendly event in town!&nbsp\;<br />\n<br />\nBarktoberfest encourages you to leash up your pooch pal and come out to enjoy a locally brewed beer\, food and live music while you browse vendor booths with everything from pet-related products to locally made crafts to bottlecap creations and cool wearables for craft beer collectors. Dogs can compete in the Howl-a-ween Costume Contest\, Weiner Dog Race\, and More.&nbsp\;<br />\n<br />\nSo bring your BFF -- human or canine -- for an afternoon of food\, shopping\, fun\, music\, and locally brewed beer. $5 entry fee (10 and under free) and IDs are required. Live entertainment\, food\, dog contests and shopping -- centered around locally-brewed craft beer -- make this a fun event for all ages!<br />\n<br />\nIf you are interested in Exhibitor or Sponsorship opportunities\, call Heather at 248.547.4000 or <a href="http://heatherz@royaloakchamber.com">heatherz@royaloakchamber.com&nbsp\;</a><br />\n<br />\n<strong>Thank you <a href="http://www.vibecreditunion.com">Vibe Credit Union</a> for being our Best In Show\, Presenting Sponsor!&nbsp\;</strong>
LOCATION:Memorial Park\, located at 13 Mile Road and Woodward Avenue
UID:e.2933.3350
SEQUENCE:3
DTSTAMP:20260424T222438Z
URL:http://royaloakchamber.smartcms.site/events/details/barktoberfest-3350
END:VEVENT

END:VCALENDAR
