BEGIN:VCALENDAR
VERSION:2.0
PRODID:-//ChamberMaster//Event Calendar 2.0//EN
METHOD:PUBLISH
X-PUBLISHED-TTL:P3D
REFRESH-INTERVAL:P3D
CALSCALE:GREGORIAN
BEGIN:VEVENT
DTSTART:20220921T220000Z
DTEND:20220922T000000Z
X-MICROSOFT-CDO-ALLDAYEVENT:FALSE
SUMMARY:ATHENA Awards
DESCRIPTION:The ATHENA Leadership Award was inspired by the goddess of Greek mythology known for her strength\, courage\, wisdom and enlightenment\, all qualities embodied in the ATHENA  Leadership Model. The ATHENA Leadership Award is presented to an individual who is honored for professional excellence\, community service and for actively assisting women in their attainment of professional excellence and leadership skills. \nWe are also looking for sponsors for the event. CLICK HERE for our sponsorship information and support form. \n\nIf you have any questions\, please email BWNAthena@gmail.com\n\nWe look forward to seeing you in September.
X-ALT-DESC;FMTTYPE=text/html:<span style="font-size:14px\;">The ATHENA Leadership Award was inspired by the goddess of Greek mythology known for her strength\, courage\, wisdom and enlightenment\, all qualities embodied in the ATHENA&reg\; Leadership Model. The ATHENA Leadership Award is presented to an individual who is honored for professional excellence\, community service and for actively assisting women in their attainment of professional excellence and leadership skills.&nbsp\;</span>\n<p><span style="font-size:14px\;">We are also looking for sponsors for the event.&nbsp\;<a href="https://chambermaster.blob.core.windows.net/userfiles/UserFiles/chambers/2933/CMS/Annual_Events/2022_Athena_Sponsorships_complete.pdf">CLICK HERE</a>&nbsp\;for our sponsorship information and support form.&nbsp\;</span></p>\n\n<p><span style="font-size:14px\;">If you have any questions\, please email BWNAthena@gmail.com</span></p>\n\n<p><span style="font-size:14px\;">We look forward to seeing you in September.&nbsp\;</span></p>\n
LOCATION:Three Cats Cafe 116 W. Fourteen Mile Rd. Clawson\, MI 48017
UID:e.2933.3975
SEQUENCE:3
DTSTAMP:20260424T061849Z
URL:http://royaloakchamber.smartcms.site/events/details/athena-awards-3975
END:VEVENT

END:VCALENDAR
