BEGIN:VCALENDAR
VERSION:2.0
PRODID:-//ChamberMaster//Event Calendar 2.0//EN
METHOD:PUBLISH
X-PUBLISHED-TTL:P3D
REFRESH-INTERVAL:P3D
CALSCALE:GREGORIAN
BEGIN:VEVENT
DTSTART:20210916T210000Z
DTEND:20210916T210000Z
X-MICROSOFT-CDO-ALLDAYEVENT:FALSE
SUMMARY:Atelier Studio of Art -Ribbon Cutting Ceremony
DESCRIPTION:Please join us for a Ribbon Cutting Ceremony for Atelier Art Studio!\n\nCeremony at 5:00PM. Please arrive by 4:45PM. \n\n\n\nThank you for your continued support of our Royal Oak Chamber and businesses! We encourage you to stop by Atelier Art Studio or send a "welcome" email if you can't make it to the Ribbon Cutting.info@atelierart.studio
X-ALT-DESC;FMTTYPE=text/html:Please join us for a Ribbon Cutting Ceremony for Atelier Art Studio!<br />\nCeremony at 5:00PM. Please arrive by 4:45PM.&nbsp\;<br />\n<br />\n<span style="font-family:arial\,sans-serif\;">Thank you for your continued support of our Royal Oak Chamber and businesses! We encourage you to stop by <strong>Atelier Art Studio</strong> or send a &ldquo\;welcome&rdquo\; email if you can&rsquo\;t make it to the Ribbon Cutting.</span><span style="background:white\;"><span style="color:#333333\;"><span style="font-family:arial\,sans-serif\;"><a href="mailto:info@atelierart.studio">info@atelierart.studio</a></span></span></span><br />\n<br />\n&nbsp\;
LOCATION:Atelier Art Studio 407 E. Fourth St. Royal Oak\, MI 48067
UID:e.2933.3841
SEQUENCE:3
DTSTAMP:20260424T222638Z
URL:http://royaloakchamber.smartcms.site/events/details/atelier-studio-of-art-ribbon-cutting-ceremony-3841
END:VEVENT

END:VCALENDAR
