BEGIN:VCALENDAR
VERSION:2.0
PRODID:-//ChamberMaster//Event Calendar 2.0//EN
METHOD:PUBLISH
X-PUBLISHED-TTL:P3D
REFRESH-INTERVAL:P3D
CALSCALE:GREGORIAN
BEGIN:VEVENT
DTSTART:20210217T170000Z
DTEND:20210218T030000Z
X-MICROSOFT-CDO-ALLDAYEVENT:FALSE
SUMMARY:Ash Wednesday
DESCRIPTION:Fish specials Wednesday for Ash Wednesday and every Friday during Lent!  \nFish & Chips $16\n\nHouse made\, craft beer battered cod served with seasoned fries and vinegar slaw\n\nFamily Fish Pack $54\n\nCarryout only\n\nHouse made craft beer battered cod\, tarter sauce and lemon\, served with seasoned fries and slaw\n\nCrispy Fish Tacos $14\n\nFried fish tacos topped with sriracha slaw\, pickled red onions\, cilantro\, and served with seasoned fries.
X-ALT-DESC;FMTTYPE=text/html:Fish specials Wednesday for Ash Wednesday and every Friday during Lent!&nbsp\;&nbsp\;\n<p><strong>Fish &amp\; Chips $16</strong></p>\n\n<p>House made\, craft beer battered cod served with seasoned fries and vinegar slaw</p>\n\n<p><strong>Family Fish Pack $54</strong></p>\n\n<p>Carryout only</p>\n\n<p>House made craft beer battered cod\, tarter sauce and lemon\, served with seasoned fries and slaw</p>\n\n<p><strong>Crispy Fish Tacos $14</strong></p>\n\n<p>Fried fish tacos topped with sriracha slaw\, pickled red onions\, cilantro\, and served with seasoned fries.</p>\n
LOCATION:Brown Iron Brewhouse - 30955 Woodward Ave. Suite 510 Royal Oak\, MI 48073
UID:e.2933.3509
SEQUENCE:3
DTSTAMP:20260425T141117Z
URL:http://royaloakchamber.smartcms.site/events/details/ash-wednesday-3509
END:VEVENT

END:VCALENDAR
