BEGIN:VCALENDAR
VERSION:2.0
PRODID:-//ChamberMaster//Event Calendar 2.0//EN
METHOD:PUBLISH
X-PUBLISHED-TTL:P3D
REFRESH-INTERVAL:P3D
CALSCALE:GREGORIAN
BEGIN:VEVENT
DTSTART:20240418T220000Z
DTEND:20240419T000000Z
X-MICROSOFT-CDO-ALLDAYEVENT:FALSE
SUMMARY:Ascension Brewing Tap Show Case
DESCRIPTION:Join us for a fun night with our friends from Ascension Brewing!\n\nMeet a rep\, grab some swag\, and as always\, enjoy some tasty beers with us!\n\nTap list will be announced in the future on this event!
X-ALT-DESC;FMTTYPE=text/html:<div>Join us for a fun night with our friends from Ascension Brewing!</div>\n\n<div>Meet a rep\, grab some swag\, and as always\, enjoy some tasty beers with us!</div>\n\n<div>Tap list will be announced in the future on this event!</div>\n
LOCATION:30955 Woodward Ave.\, Royal Oak\, MI\, United States\, Michigan 48073
UID:e.2933.4322
SEQUENCE:3
DTSTAMP:20260422T224108Z
URL:http://royaloakchamber.smartcms.site/events/details/ascension-brewing-tap-show-case-4322
END:VEVENT

END:VCALENDAR
