BEGIN:VCALENDAR
VERSION:2.0
PRODID:-//ChamberMaster//Event Calendar 2.0//EN
METHOD:PUBLISH
X-PUBLISHED-TTL:P3D
REFRESH-INTERVAL:P3D
CALSCALE:GREGORIAN
BEGIN:VEVENT
DTSTART:20220612T150000Z
DTEND:20220612T210000Z
X-MICROSOFT-CDO-ALLDAYEVENT:FALSE
SUMMARY:Art of Fire
DESCRIPTION:To promote art and draw visitors and residents into the community\, to provide opportunities for local artists and foster art appreciation through demonstrations and hands-on opportunities\, and to raise key funds necessary to support the day to day business operations of the Royal Oak Chamber of Commerce.
X-ALT-DESC;FMTTYPE=text/html:<span style="color: rgb(51\, 51\, 51)\; font-family: sans-serif\, Arial\, Verdana\, &quot\;Trebuchet MS&quot\;\; font-size: 13px\; background-color: rgb(255\, 255\, 255)\;">To promote art and draw visitors and residents into the community\, to provide opportunities for local artists and foster art appreciation through demonstrations and hands-on opportunities\, and to raise key funds necessary to support the day to day business operations of the Royal Oak Chamber of Commerce.</span>
LOCATION:Downtown Royal Oak on Washington Avenue\, between 5th Street & Lincoln.
UID:e.2933.3881
SEQUENCE:3
DTSTAMP:20260424T062055Z
URL:http://royaloakchamber.smartcms.site/events/details/art-of-fire-3881
END:VEVENT

END:VCALENDAR
