BEGIN:VCALENDAR
VERSION:2.0
PRODID:-//ChamberMaster//Event Calendar 2.0//EN
METHOD:PUBLISH
X-PUBLISHED-TTL:P3D
REFRESH-INTERVAL:P3D
CALSCALE:GREGORIAN
BEGIN:VEVENT
DTSTART:20240924T120000Z
DTEND:20240924T130000Z
X-MICROSOFT-CDO-ALLDAYEVENT:FALSE
SUMMARY:Ambassador Committee Meeting
DESCRIPTION:Ambassador Committee Meeting
X-ALT-DESC;FMTTYPE=text/html:Ambassador Committee Meeting&nbsp\;
LOCATION:Virtual
UID:e.2933.3555
SEQUENCE:3
DTSTAMP:20260423T061419Z
URL:http://royaloakchamber.smartcms.site/events/details/ambassador-committee-meeting-09-24-2024-3555
END:VEVENT

END:VCALENDAR
