BEGIN:VCALENDAR
VERSION:2.0
PRODID:-//ChamberMaster//Event Calendar 2.0//EN
METHOD:PUBLISH
X-PUBLISHED-TTL:P3D
REFRESH-INTERVAL:P3D
CALSCALE:GREGORIAN
BEGIN:VEVENT
DTSTART:20220426T213000Z
DTEND:20220426T230000Z
X-MICROSOFT-CDO-ALLDAYEVENT:FALSE
SUMMARY:Ambassador Committee Meeting
DESCRIPTION:Ambassador Committee Meeting
X-ALT-DESC;FMTTYPE=text/html:Ambassador Committee Meeting&nbsp\;
LOCATION:Royal Oak Chamber of Commerce
UID:e.2933.3526
SEQUENCE:3
DTSTAMP:20260424T094457Z
URL:http://royaloakchamber.smartcms.site/events/details/ambassador-committee-meeting-04-26-2022-3526
END:VEVENT

END:VCALENDAR
