BEGIN:VCALENDAR
VERSION:2.0
PRODID:-//ChamberMaster//Event Calendar 2.0//EN
METHOD:PUBLISH
X-PUBLISHED-TTL:P3D
REFRESH-INTERVAL:P3D
CALSCALE:GREGORIAN
BEGIN:VEVENT
DTSTART:20240423T120000Z
DTEND:20240423T130000Z
X-MICROSOFT-CDO-ALLDAYEVENT:FALSE
SUMMARY:Ambassador Committee Meeting
DESCRIPTION:Ambassador Committee Meeting
X-ALT-DESC;FMTTYPE=text/html:Ambassador Committee Meeting&nbsp\;
LOCATION:Virtual
UID:e.2933.3550
SEQUENCE:3
DTSTAMP:20260422T224231Z
URL:http://royaloakchamber.smartcms.site/events/details/ambassador-committee-meeting-04-23-2024-3550
END:VEVENT

END:VCALENDAR
