BEGIN:VCALENDAR
VERSION:2.0
PRODID:-//ChamberMaster//Event Calendar 2.0//EN
METHOD:PUBLISH
X-PUBLISHED-TTL:P3D
REFRESH-INTERVAL:P3D
CALSCALE:GREGORIAN
BEGIN:VEVENT
DTSTART:20211103T120000Z
DTEND:20211103T130000Z
X-MICROSOFT-CDO-ALLDAYEVENT:FALSE
SUMMARY:ALPHA Workshops
DESCRIPTION:The Alpha Group has evolved!\n\nWe are now The Alpha Group Workshops. The Royal Oak Chamber offers many ways for new members to get involved and maximize their membership. New members need the stepping stones to network and create sustainable business practices. We are creating a learning environment to discuss and work through topics that will have an immediate impact on your membership. \n\n \n\n We will be offering 1-hour workshops that are held 1x per month on the first Wednesday of each month from 8am-9am. Our events are in-person AND hybrid. If you have been with the Chamber for less than a year\, please reach out to get a zoom invite or join us. \n\n \nTopic: Breaking The Internet\n\n \n\nYour Chairpersons\, Michelle Armstrong and Mike Piskie\, bring you a partner workshop. We'll spend the first   talking about things you can do to spice up your social media campaigns and website presence. The second half will introduce you to tips to preserve your business data and troubleshoot some common issues new business owners face. Look forward to seeing you virtually or in person.
X-ALT-DESC;FMTTYPE=text/html:<div style="color: rgb(64\, 63\, 66)\; font-family: Arial\, Verdana\, Helvetica\, sans-serif\; font-size: 12px\; white-space: pre-wrap\; background-color: rgb(255\, 255\, 255)\;"><span style="font-size: 16px\; font-weight: bold\;">The Alpha Group has evolved!</span></div>\n\n<div style="color: rgb(64\, 63\, 66)\; font-family: Arial\, Verdana\, Helvetica\, sans-serif\; font-size: 12px\; white-space: pre-wrap\; background-color: rgb(255\, 255\, 255)\;"><span style="font-size: 16px\;">We are now The Alpha Group Workshops. The Royal Oak Chamber offers many ways for new members to get involved and maximize their membership.&nbsp\;New members need the stepping stones to network and create sustainable business practices.&nbsp\;We are creating a learning environment to discuss and work through topics that will have an immediate impact on your membership.&nbsp\;</span></div>\n\n<div style="color: rgb(64\, 63\, 66)\; font-family: Arial\, Verdana\, Helvetica\, sans-serif\; font-size: 12px\; white-space: pre-wrap\; background-color: rgb(255\, 255\, 255)\;">&nbsp\;</div>\n\n<div style="color: rgb(64\, 63\, 66)\; font-family: Arial\, Verdana\, Helvetica\, sans-serif\; font-size: 12px\; white-space: pre-wrap\; background-color: rgb(255\, 255\, 255)\;"><span style="font-size: 16px\;">&#65279\;We will be offering 1-hour workshops that are held 1x per month on the first Wednesday of each month from 8am-9am. Our events are in-person AND hybrid. If you have been with the Chamber for less than a year\, please reach out to get a zoom invite or join us. </span><br />\n&nbsp\;\n<div style="color: rgb(64\, 63\, 66)\; font-family: Arial\, Verdana\, Helvetica\, sans-serif\; font-size: 12px\; white-space: pre-wrap\; background-color: rgb(255\, 255\, 255)\; text-align: center\;"><span style="font-size: 16px\; font-weight: bold\; text-decoration-line: underline\;">Topic: Breaking The Internet</span></div>\n\n<div style="color: rgb(64\, 63\, 66)\; font-family: Arial\, Verdana\, Helvetica\, sans-serif\; font-size: 12px\; white-space: pre-wrap\; background-color: rgb(255\, 255\, 255)\; text-align: center\;">&nbsp\;</div>\n\n<div style="color: rgb(64\, 63\, 66)\; font-family: Arial\, Verdana\, Helvetica\, sans-serif\; font-size: 12px\; white-space: pre-wrap\; background-color: rgb(255\, 255\, 255)\; text-align: center\;"><span style="font-size: 16px\;">Your Chairpersons\, Michelle Armstrong and Mike Piskie\, bring you a partner workshop.&nbsp\;We&rsquo\;ll spend the first &frac12\; talking about things you can do to spice up your social media campaigns and website presence.&nbsp\;The second half will introduce you to tips to preserve your business data and troubleshoot some common issues new business owners face.&nbsp\;Look forward to seeing you virtually or in person.</span></div>\n</div>\n
LOCATION:Where: The Office Coffee Shop (or email Michelle for the Zoom Link) 402 S. Lafayette Ave. Royal Oak\, MI 48067
UID:e.2933.3853
SEQUENCE:3
DTSTAMP:20260424T203202Z
URL:http://royaloakchamber.smartcms.site/events/details/alpha-workshops-3853
END:VEVENT

END:VCALENDAR
