BEGIN:VCALENDAR
VERSION:2.0
PRODID:-//ChamberMaster//Event Calendar 2.0//EN
METHOD:PUBLISH
X-PUBLISHED-TTL:P3D
REFRESH-INTERVAL:P3D
CALSCALE:GREGORIAN
BEGIN:VEVENT
DTSTART:20210303T130000Z
DTEND:20210303T140000Z
X-MICROSOFT-CDO-ALLDAYEVENT:FALSE
SUMMARY:Alpha Group Meeting
DESCRIPTION:The Alpha Group is dedicated to helping make your first year as a Chamber member as rewarding as possible.  We're here to welcome and share successful strategies from keynote speakers and other respected business owners.  Join us and meet new people--network--get referrals--build friendships.  The Alpha Group is here to make your membership experience as positive and productive as possible--starting now!  \n\n\n\nThe Alpha Group will meet monthly on the 1st and 3rd Wednesdays. Contact: Matthew Liston @ mliston@michiganfinancial.com
X-ALT-DESC;FMTTYPE=text/html:The Alpha Group is dedicated to helping&nbsp\;make your&nbsp\;first year as a Chamber member as rewarding as possible.&nbsp\; We&#39\;re here to welcome and share successful&nbsp\;strategies&nbsp\;from&nbsp\;keynote speakers and other&nbsp\;respected business owners.&nbsp\; Join us and meet new people--network--get referrals--build friendships.&nbsp\; The Alpha Group is&nbsp\;here to make your membership experience&nbsp\;as positive and productive&nbsp\;as possible--starting now!&nbsp\;&nbsp\;<br />\n<br />\nThe Alpha Group will meet monthly on the 1st and 3rd Wednesdays. Contact: Matthew Liston @ <a href="http://mliston@michiganfinancial.com">mliston@michiganfinancial.com</a><br />\n<br />\n&nbsp\;
LOCATION:The Alpha Group is dedicated to helping make your first year as a Chamber member as rewarding as possible. We're here to welcome and share successful strategies from keynote speakers and other respected business owners. Join us and meet new people--network--get referrals--build friendships. The Alpha Group is here to make your membership experience as positive and productive as possible--starting now! The Alpha Group will meet monthly on the 1st and 3rd Wednesdays. Contact Matt Liston @ Matthew Liston mliston@michiganfinancial.com
UID:e.2933.1256
SEQUENCE:3
DTSTAMP:20260425T110713Z
URL:http://royaloakchamber.smartcms.site/events/details/alpha-group-meeting-03-03-2021-1256
END:VEVENT

END:VCALENDAR
