BEGIN:VCALENDAR
VERSION:2.0
PRODID:-//ChamberMaster//Event Calendar 2.0//EN
METHOD:PUBLISH
X-PUBLISHED-TTL:P3D
REFRESH-INTERVAL:P3D
CALSCALE:GREGORIAN
BEGIN:VEVENT
DTSTART:20220310T220000Z
DTEND:20220311T000000Z
X-MICROSOFT-CDO-ALLDAYEVENT:FALSE
SUMMARY:After Hours On The Ice!
DESCRIPTION:Join us on the ice\, for our first After Hours of 2022! Bring your skates\, or rent them for $5.00. We are so lucky to have an outdoor rink in downtown Royal Oak\, and we want to make sure we get out there with our Members (and their families) to enjoy it while we can! Hot chocolate will be available for purchase. See you on the ice!
X-ALT-DESC;FMTTYPE=text/html:Join us on the ice\, for our first After Hours of 2022! Bring your skates\, or rent them for $5.00. We are so lucky to have an outdoor rink in downtown Royal Oak\, and we want to make sure we get out there with our Members (and their families) to enjoy it while we can! Hot chocolate will be available for purchase. See you on the ice!&nbsp\;
LOCATION:M3 Investment Services Outdoor Ice Rink 316 E. 11 Mile Rd. Royal Oak\, MI 48067
UID:e.2933.3917
SEQUENCE:3
DTSTAMP:20260424T112731Z
URL:http://royaloakchamber.smartcms.site/events/details/after-hours-on-the-ice-3917
END:VEVENT

END:VCALENDAR
