BEGIN:VCALENDAR
VERSION:2.0
PRODID:-//ChamberMaster//Event Calendar 2.0//EN
METHOD:PUBLISH
X-PUBLISHED-TTL:P3D
REFRESH-INTERVAL:P3D
CALSCALE:GREGORIAN
BEGIN:VEVENT
DTSTART:20240528T210000Z
DTEND:20240528T230000Z
X-MICROSOFT-CDO-ALLDAYEVENT:FALSE
SUMMARY:After Hours-Oak City Grille
DESCRIPTION:Please join us at Oak City Grille on May 28! All members and members-to-be are welcome to come and network at this After Hours at no charge. Registration is mandatory. Light appetizers will be served. Cash Bar. \n\n\n\nThank you\, Oak City Grille for hosting us!
X-ALT-DESC;FMTTYPE=text/html:<span style="font-size:18px\;">Please join us at Oak City Grille on May 28! All members and members-to-be are welcome to come and network at this After Hours at no charge. Registration is mandatory. Light appetizers will be served. Cash Bar.&nbsp\;<br />\n<br />\n<strong>Thank you\,&nbsp\;<a href="http://www.oakcitygrille.com">Oak City Grille</a> for hosting us!&nbsp\;</strong></span>
LOCATION:Oak City Grille 212 W. Sixth St. Royal Oak\, Mi 48067
UID:e.2933.4332
SEQUENCE:3
DTSTAMP:20260422T224108Z
URL:http://royaloakchamber.smartcms.site/events/details/after-hours-oak-city-grille-4332
END:VEVENT

END:VCALENDAR
