BEGIN:VCALENDAR
VERSION:2.0
PRODID:-//ChamberMaster//Event Calendar 2.0//EN
METHOD:PUBLISH
X-PUBLISHED-TTL:P3D
REFRESH-INTERVAL:P3D
CALSCALE:GREGORIAN
BEGIN:VEVENT
DTSTART:20240221T220000Z
DTEND:20240222T000000Z
X-MICROSOFT-CDO-ALLDAYEVENT:FALSE
SUMMARY:After Hours @ North End Taproom
DESCRIPTION:ROCC Members\, grab a co-worker and join us at North End Taproom for our first After Hours Networking Event of 2024! There is no fee to attend this event\, members are responsible for their bar bill. Light appetizers graciously provided by our host!\n\n\n\nCome in for some informal networking and enjoy craft beverages (non-alcohol beverages also available) from their self-serve tap wall. Please register so we can provide ample space and appetizers!
X-ALT-DESC;FMTTYPE=text/html:<br />\n<span style="font-size: 16px\;">ROCC Members\, grab a co-worker and join us at </span><a href="http://www.northendtaproom.com" style="font-size: 16px\;"><strong>North End Taproom</strong></a><span style="font-size: 16px\;"> for our first After Hours Networking Event of 2024! There is no fee to attend this event\, members are responsible for their bar bill. Light appetizers graciously provided by our host!</span><br />\n<br />\n<span style="font-size: 16px\;">Come in for some informal networking and enjoy craft beverages (non-alcohol&nbsp\;beverages also available) from their self-serve tap wall. Please register so we can provide ample space and appetizers!&nbsp\;</span><br />\n<br />\n&nbsp\;
LOCATION:North End Taproom 111 S. Main St. Royal Oak\, MI 48067
UID:e.2933.4233
SEQUENCE:3
DTSTAMP:20260422T192104Z
URL:http://royaloakchamber.smartcms.site/events/details/after-hours-north-end-taproom-4233
END:VEVENT

END:VCALENDAR
