BEGIN:VCALENDAR
VERSION:2.0
PRODID:-//ChamberMaster//Event Calendar 2.0//EN
METHOD:PUBLISH
X-PUBLISHED-TTL:P3D
REFRESH-INTERVAL:P3D
CALSCALE:GREGORIAN
BEGIN:VEVENT
DTSTART:20210824T210000Z
DTEND:20210824T230000Z
X-MICROSOFT-CDO-ALLDAYEVENT:FALSE
SUMMARY:After Hours- Fifth Avenue
DESCRIPTION:Please join us for an evening networking opportunity! Fifth Avenue will provide the outdoor patio space\, light appetizers and a cash bar.
X-ALT-DESC;FMTTYPE=text/html:Please join us for an evening networking opportunity! Fifth Avenue will provide the outdoor patio space\, light appetizers and a cash bar.&nbsp\;
LOCATION:Fifth Avenue 215 W. Fifth Ave. Royal Oak\, MI 48067
UID:e.2933.3833
SEQUENCE:3
DTSTAMP:20260425T000933Z
URL:http://royaloakchamber.smartcms.site/events/details/after-hours-fifth-avenue-3833
END:VEVENT

END:VCALENDAR
