BEGIN:VCALENDAR
VERSION:2.0
PRODID:-//ChamberMaster//Event Calendar 2.0//EN
METHOD:PUBLISH
X-PUBLISHED-TTL:P3D
REFRESH-INTERVAL:P3D
CALSCALE:GREGORIAN
BEGIN:VEVENT
DTSTART:20231024T210000Z
DTEND:20231024T230000Z
X-MICROSOFT-CDO-ALLDAYEVENT:FALSE
SUMMARY:After Hours @ Buffalo Wild Wings
DESCRIPTION:ROCC Members! Join us at 5:00pm at Buffalo Wild Wings for some light appetizers (provided by BWW)\, cash bar and informal networking! \n\nPLEASE REGISTER
X-ALT-DESC;FMTTYPE=text/html:ROCC Members! Join us at 5:00pm at Buffalo Wild Wings for some light appetizers (provided by BWW)\, cash bar and informal networking!&nbsp\;<br />\nPLEASE REGISTER&nbsp\;
LOCATION:Buffalo Wild Wings 500 S. Main St. Royal Oak\, MI 48067
UID:e.2933.4192
SEQUENCE:3
DTSTAMP:20260422T205347Z
URL:http://royaloakchamber.smartcms.site/events/details/after-hours-buffalo-wild-wings-4192
END:VEVENT

END:VCALENDAR
