BEGIN:VCALENDAR
VERSION:2.0
PRODID:-//ChamberMaster//Event Calendar 2.0//EN
METHOD:PUBLISH
X-PUBLISHED-TTL:P3D
REFRESH-INTERVAL:P3D
CALSCALE:GREGORIAN
BEGIN:VEVENT
DTSTART:20230817T210000Z
DTEND:20230817T230000Z
X-MICROSOFT-CDO-ALLDAYEVENT:FALSE
SUMMARY:After Hours at Rock on Third
DESCRIPTION:ROCC Members! Join us at 5:00pm at the Rock on Third for some light appetizers (provided by Rock on Third) and informal networking! Cash bar. Around 7:00pm we're hoping you'll join us in a walk across the street to Centennial Commons (with our drinks to go-yay\, social district!) to support our last Royal Oak Chamber concert of the series. And what a treat it'll be to jam out with The Detroit Retro Society-Michigan Music Night!\n\n\n\nPlease register so we have enough room reserved at Rock on Third.
X-ALT-DESC;FMTTYPE=text/html:ROCC Members! Join us at 5:00pm at the Rock on Third for some light appetizers (provided by Rock on Third) and informal networking! Cash bar. Around 7:00pm we&#39\;re hoping you&#39\;ll join us in a walk across the street to Centennial Commons (with our drinks to go-yay\, social district!) to support our last Royal Oak Chamber concert of the series. And what a treat it&#39\;ll be to jam out with The Detroit Retro Society-Michigan Music Night!<br />\n<br />\nPlease register so we have enough room reserved at Rock on Third.&nbsp\;
LOCATION:Rock on Third 112 E. Third St. Royal Oak\, MI 48067
UID:e.2933.4147
SEQUENCE:3
DTSTAMP:20260423T184846Z
URL:http://royaloakchamber.smartcms.site/events/details/after-hours-at-rock-on-third-4147
END:VEVENT

END:VCALENDAR
