BEGIN:VCALENDAR
VERSION:2.0
PRODID:-//ChamberMaster//Event Calendar 2.0//EN
METHOD:PUBLISH
X-PUBLISHED-TTL:P3D
REFRESH-INTERVAL:P3D
CALSCALE:GREGORIAN
BEGIN:VEVENT
DTSTART:20220405T210000Z
DTEND:20220405T230000Z
X-MICROSOFT-CDO-ALLDAYEVENT:FALSE
SUMMARY:After Hours
DESCRIPTION:We're back for our 2022 After Hours!  We are excited for some evening networking at Lockhart's BBQ! Light appetizers provided and sponsored by Lockharts. Cash Bar. RSVP required.
X-ALT-DESC;FMTTYPE=text/html:<br />\nWe&#39\;re back for our 2022 After Hours!&nbsp\; We are excited for some evening networking at Lockhart&#39\;s BBQ! Light appetizers provided and sponsored by Lockharts. Cash Bar. RSVP required.&nbsp\;
LOCATION:Lockhart's BBQ (Downstairs) 202 E. Third St. Royal Oak\, MI 48067
UID:e.2933.3920
SEQUENCE:3
DTSTAMP:20260424T094101Z
URL:http://royaloakchamber.smartcms.site/events/details/after-hours-3920
END:VEVENT

END:VCALENDAR
