BEGIN:VCALENDAR
VERSION:2.0
PRODID:-//ChamberMaster//Event Calendar 2.0//EN
METHOD:PUBLISH
X-PUBLISHED-TTL:P3D
REFRESH-INTERVAL:P3D
CALSCALE:GREGORIAN
BEGIN:VEVENT
DTSTART:20201102T160000Z
DTEND:20201102T170000Z
X-MICROSOFT-CDO-ALLDAYEVENT:FALSE
SUMMARY:A 360° Perspective on Your Business
DESCRIPTION:Cost: No Charge When everything is important all the time\, the question becomes "what do we focus on now?" In this workshop you'll be introduced to a suite of visual tools to help you quickly evaluate where you're at with your business and what areas to focus on if you want to grow the company. This workshop is designed to help existing businesses.
X-ALT-DESC;FMTTYPE=text/html:Cost: No Charge When everything is important all the time\, the question becomes &ldquo\;what do we focus on now?&rdquo\; In this workshop you&rsquo\;ll be introduced to a suite of visual tools to help you quickly evaluate where you&rsquo\;re at with your business and what areas to focus on if you want to grow the company. This workshop is designed to help existing businesses.
LOCATION:Webinar
UID:e.2933.3445
SEQUENCE:3
DTSTAMP:20260425T192507Z
URL:http://royaloakchamber.smartcms.site/events/details/a-360-perspective-on-your-business-11-02-2020-3445
END:VEVENT

END:VCALENDAR
