BEGIN:VCALENDAR
VERSION:2.0
PRODID:-//ChamberMaster//Event Calendar 2.0//EN
METHOD:PUBLISH
X-PUBLISHED-TTL:P3D
REFRESH-INTERVAL:P3D
CALSCALE:GREGORIAN
BEGIN:VEVENT
DTSTART:20240821T230000Z
DTEND:20240822T010000Z
X-MICROSOFT-CDO-ALLDAYEVENT:FALSE
SUMMARY:80's Themed Trivia
DESCRIPTION:Join us for a fun night of 80's themed trivia!\n\nCompete head to head against others to see who knows the most about the 80's!\n\nThis trivia is free to play and all ages are welcome!\n\nAll updates will be made on our Facebook event
X-ALT-DESC;FMTTYPE=text/html:<div>Join us for a fun night of 80&#39\;s themed trivia!</div>\n\n<div>Compete head to head against others to see who knows the most about the 80&#39\;s!</div>\n\n<div>This trivia is free to play and all ages are welcome!</div>\n\n<div>All updates will be made on our Facebook event</div>\n
LOCATION:30955 Woodward Ave\, Unit 510 Royal Oak MI
UID:e.2933.4374
SEQUENCE:3
DTSTAMP:20260423T061232Z
URL:http://royaloakchamber.smartcms.site/events/details/80-s-themed-trivia-4374
END:VEVENT

END:VCALENDAR
