BEGIN:VCALENDAR
VERSION:2.0
PRODID:-//ChamberMaster//Event Calendar 2.0//EN
METHOD:PUBLISH
X-PUBLISHED-TTL:P3D
REFRESH-INTERVAL:P3D
CALSCALE:GREGORIAN
BEGIN:VEVENT
DTSTART:20241003T220000Z
DTEND:20241004T020000Z
X-MICROSOFT-CDO-ALLDAYEVENT:FALSE
SUMMARY:20th Annual Spread the Laughs Benefit
DESCRIPTION:Please join us in celebrating 20 years of Spread the Laughs on Thursday\, October 3rd at 6:00 PM at Mark Ridleys Comedy Castle. It is sure to be a night filled with laughter and giving back. South Oakland Citizens for the Homeless invites you to this fundraising event featuring dinner\, entertainment and a silent auction. Come together for a good cause and support our mission to provide shelter and resources to those in need. Your participation will make a difference in the lives of the homeless community. Let's spread the laughs and spread the love!\n\nDoors open at 6pm for dinner and auction. Tom Cotter takes the stage at 8pm!\n\nTickets and Sponsorships available:\n\nTinyurl.com/24comedycastle
X-ALT-DESC;FMTTYPE=text/html:<div><span style="font-size:14px"><kbd>Please join us in celebrating 20 years of Spread the Laughs on Thursday\, October 3rd at 6:00 PM at Mark Ridleys Comedy Castle. It is sure to be a night filled with laughter and giving back. South Oakland Citizens for the Homeless invites you to this fundraising event featuring dinner\, entertainment and a silent auction. Come together for a good cause and support our mission to provide shelter and resources to those in need. Your participation will make a difference in the lives of the homeless community. Let&#39\;s spread the laughs and spread the love!</kbd></span></div>\n\n<div><span style="font-size:14px"><kbd>Doors open at 6pm for dinner and auction. Tom Cotter takes the stage at 8pm!</kbd></span></div>\n\n<div><span style="font-size:14px"><kbd>Tickets and Sponsorships available:<br />\n<a class="x1i10hfl xjbqb8w x1ejq31n xd10rxx x1sy0etr x17r0tee x972fbf xcfux6l x1qhh985 xm0m39n x9f619 x1ypdohk xt0psk2 xe8uvvx xdj266r x11i5rnm xat24cr x1mh8g0r xexx8yu x4uap5 x18d9i69 xkhd6sd x16tdsg8 x1hl2dhg xggy1nq x1a2a7pz x1sur9pj xkrqix3 x1fey0fg" href="https://tinyurl.com/24comedycastle?fbclid=IwZXh0bgNhZW0CMTAAAR3Vq48VQAxQbcPtY2NJieN2gG4dlKiWK5ycHRDS9eAXObTqJ9NreDxdMU4_aem_Ofkn2ZnWWzEImlk8A6YuDg" rel="nofollow noreferrer" style="cursor: pointer\; text-decoration-line: none\; list-style: none\; margin: 0px\; text-align: inherit\; border-style: none\; padding: 0px\; box-sizing: border-box\; border-width: 0px\; outline: none\; -webkit-tap-highlight-color: transparent\; touch-action: manipulation\; background-color: transparent\; display: inline\; font-family: inherit\;" tabindex="0" target="_blank">Tinyurl.com/24comedycastle</a></kbd></span></div>\n
LOCATION:Mark Ridley's Comedy Castle 310 S Troy St\, Royal Oak\, MI 48067
UID:e.2933.4407
SEQUENCE:3
DTSTAMP:20260423T075540Z
URL:http://royaloakchamber.smartcms.site/events/details/20th-annual-spread-the-laughs-benefit-4407
END:VEVENT

END:VCALENDAR
