BEGIN:VCALENDAR
VERSION:2.0
PRODID:-//ChamberMaster//Event Calendar 2.0//EN
METHOD:PUBLISH
X-PUBLISHED-TTL:P3D
REFRESH-INTERVAL:P3D
CALSCALE:GREGORIAN
BEGIN:VEVENT
DTSTART:20230617T113000Z
DTEND:20230617T140000Z
X-MICROSOFT-CDO-ALLDAYEVENT:FALSE
SUMMARY:2023 Metro Detroit Stroll for Epilepsy™
DESCRIPTION:The Stroll for Epilepsy  is an inspirational event that unites the epilepsy community across the state to fight the challenges of living with epilepsy including stigma\, SUDEP\, misdiagnosis\, treatment gaps\, loss of employment\, discrimination\, and isolation. As the Epilepsy Foundation of Michigan's largest fundraising event\, the Stroll for Epilepsy  increases awareness and provides vital support in the fight against epilepsy. This year is extra special as the Epilepsy Foundation of Michigan is thrilled to be celebrating our 75th Anniversary! The 2023 Metro Detroit Stroll for Epilepsy  will be held on Saturday\, June 17 at 7:30am at the Detroit Zoo\, and there is also a Virtual Stroll option for those who are unable to attend in-person. All participants will have the opportunity to hear personal stories of those affected by epilepsy\, fundraise\, earn prizes\, and make a difference in the lives of those living with epilepsy! The Epilepsy Foundation of Michigan leads the fight to overcome the challenges of living with epilepsy and to accelerate therapies to stop seizures\, find cures\, and save lives. Funds raised through the Stroll for Epilepsy  will benefit the Foundation's state-wide initiatives\, making it possible for the Foundation to train school personnel on seizure first aid\, host educational conferences\, provide guidance and understanding to individuals affected by epilepsy through the Here for You Helpline\, and more! Pre-Registration for the Metro Detroit Stroll for Epilepsy  is available until June 15 at 11:59PM. Day-of registration is available for In-Person participants for an additional fee\, as long as the Stroll is not sold out. For more information\, or to register today\, please visit https://epilepsymichigan.org/stroll. Pre-Registration Fees - In-Person & Virtual Adult Participants (Ages 12+) - $25.00 In-Person & Virtual Child Participants (Ages 2 -11) - $15.00 In-Person & Virtual Infant Participants (Ages 1 and under)   FREE
X-ALT-DESC;FMTTYPE=text/html:The Stroll for Epilepsy&trade\; is an inspirational event that unites the epilepsy community across the state to fight the challenges of living with epilepsy including stigma\, SUDEP\, misdiagnosis\, treatment gaps\, loss of employment\, discrimination\, and isolation. As the Epilepsy Foundation of Michigan&rsquo\;s largest fundraising event\, the Stroll for Epilepsy&trade\; increases awareness and provides vital support in the fight against epilepsy. This year is extra special as the Epilepsy Foundation of Michigan is thrilled to be celebrating our 75th Anniversary! The 2023 Metro Detroit Stroll for Epilepsy&trade\; will be held on Saturday\, June 17 at 7:30am at the Detroit Zoo\, and there is also a Virtual Stroll option for those who are unable to attend in-person. All participants will have the opportunity to hear personal stories of those affected by epilepsy\, fundraise\, earn prizes\, and make a difference in the lives of those living with epilepsy! The Epilepsy Foundation of Michigan leads the fight to overcome the challenges of living with epilepsy and to accelerate therapies to stop seizures\, find cures\, and save lives. Funds raised through the Stroll for Epilepsy&trade\; will benefit the Foundation&rsquo\;s state-wide initiatives\, making it possible for the Foundation to train school personnel on seizure first aid\, host educational conferences\, provide guidance and understanding to individuals affected by epilepsy through the Here for You Helpline\, and more! Pre-Registration for the Metro Detroit Stroll for Epilepsy&trade\; is available until June 15 at 11:59PM. Day-of registration is available for In-Person participants for an additional fee\, as long as the Stroll is not sold out. For more information\, or to register today\, please visit https://epilepsymichigan.org/stroll. Pre-Registration Fees - In-Person &amp\; Virtual Adult Participants (Ages 12+) - $25.00 In-Person &amp\; Virtual Child Participants (Ages 2 -11) - $15.00 In-Person &amp\; Virtual Infant Participants (Ages 1 and under) &ndash\; FREE
LOCATION:Detroit Zoo 8450 W 10 Mile Rd. Royal Oak\, MI 48067
UID:e.2933.4086
SEQUENCE:3
DTSTAMP:20260423T220831Z
URL:http://royaloakchamber.smartcms.site/events/details/2023-metro-detroit-stroll-for-epilepsy-4086
END:VEVENT

END:VCALENDAR
